BEGIN:VCALENDAR
VERSION:2.0
PRODID:icalendar-ruby
CALSCALE:GREGORIAN
METHOD:PUBLISH
BEGIN:VEVENT
DTSTAMP:20260424T064457Z
UID:5-404772@andrewchurchkathleen.com
DTSTART:20261011T140000Z
DTEND:20261011T150000Z
CLASS:PUBLIC
CREATED:20260423T223648
DESCRIPTION:Sunday Worship
LAST-MODIFIED:20260423T223648
LOCATION:
SUMMARY:Sunday Worship
URL;VALUE=URI:https://andrewchurchkathleen.com/events/sunday-worship/2026-1
 0-11
END:VEVENT
END:VCALENDAR
