BEGIN:VCALENDAR
VERSION:2.0
PRODID:icalendar-ruby
CALSCALE:GREGORIAN
METHOD:PUBLISH
BEGIN:VEVENT
DTSTAMP:20260424T112944Z
UID:5-404775@andrewchurchkathleen.com
DTSTART:20261101T150000Z
DTEND:20261101T160000Z
CLASS:PUBLIC
CREATED:20260423T223648
DESCRIPTION:Sunday Worship
LAST-MODIFIED:20260423T223648
LOCATION:
SUMMARY:Sunday Worship
URL;VALUE=URI:https://andrewchurchkathleen.com/events/sunday-worship/2026-1
 1-01
END:VEVENT
END:VCALENDAR
